BEGIN:VCALENDAR
VERSION:2.0
PRODID:-//Squarespace Inc/Squarespace 6//v6//EN
BEGIN:VEVENT
UID:544674e5e4b070d5e540db3d@squarespace.com
DTSTAMP:20141021T150113Z
DTSTART:20141203T220000Z
DTEND:20141203T230000Z
SUMMARY:Lincoln Unit Meeting
GEO:40.143601;-89.34882
LOCATION:K.C. Hall\, 217 Limit St\, Lincoln\, IL\, 62656\, United States
END:VEVENT
END:VCALENDAR
