BEGIN:VCALENDAR
VERSION:2.0
PRODID:-//Squarespace Inc/Squarespace 6//v6//EN
BEGIN:VEVENT
UID:54467467e4b0a530e1fadfe9@squarespace.com
DTSTAMP:20141021T145936Z
DTSTART:20141203T230000Z
DTEND:20141204T000000Z
SUMMARY:LaSalle Unit Meeting
GEO:40.656023;-89.497223
LOCATION:VFW 4668
END:VEVENT
END:VCALENDAR
