BEGIN:VCALENDAR
VERSION:2.0
PRODID:-//Squarespace Inc/Squarespace 6//v6//EN
BEGIN:VEVENT
UID:54467545e4b0da769d41b8ac@squarespace.com
DTSTAMP:20141021T150301Z
DTSTART:20141203T210000Z
DTEND:20141203T220000Z
SUMMARY:Clinton Unit Meeting
GEO:40.150385;-88.943822
LOCATION:Elks Lodge #785\, 1520 E. South St\, Clinton\, IL
END:VEVENT
END:VCALENDAR
