BEGIN:VCALENDAR
VERSION:2.0
PRODID:-//Squarespace Inc/Squarespace 6//v6//EN
BEGIN:VEVENT
UID:54467c86e4b04d551694713a@squarespace.com
DTSTAMP:20141021T153255Z
DTSTART:20141226T010000Z
DTEND:20141226T020000Z
SUMMARY:Christmas Day - Office Closed
END:VEVENT
END:VCALENDAR
