BEGIN:VCALENDAR
VERSION:2.0
PRODID:-//Squarespace Inc/Squarespace 6//v6//EN
BEGIN:VEVENT
UID:54467c4ce4b084b339377753@squarespace.com
DTSTAMP:20141021T153209Z
DTSTART:20141224T130000Z
DTEND:20141224T220000Z
SUMMARY:Christmas Eve - Office Closed
END:VEVENT
END:VCALENDAR
