BEGIN:VCALENDAR
VERSION:2.0
PRODID:-//Squarespace Inc/Squarespace 6//v6//EN
BEGIN:VEVENT
UID:54467810e4b0ffb58f5bc95b@squarespace.com
DTSTAMP:20141021T154158Z
DTSTART:20141211T003000Z
DTEND:20141211T013000Z
SUMMARY:Jacksonville Unit Meeting
GEO:39.734908;-90.22799
LOCATION:AmVets Post 100\, 210 E. Court St\, Jacksonville\, IL
END:VEVENT
END:VCALENDAR
