BEGIN:VCALENDAR
VERSION:2.0
PRODID:-//Squarespace Inc/Squarespace 6//v6//EN
BEGIN:VEVENT
UID:544673a4e4b016fff425de3a@squarespace.com
DTSTAMP:20141021T145612Z
DTSTART:20141202T210000Z
DTEND:20141202T220000Z
SUMMARY:Havana Unit Meeting
GEO:41.604169;-87.518456
LOCATION:VFW\, 425 W. Ave\, Havana\, IL
END:VEVENT
END:VCALENDAR
