BEGIN:VCALENDAR
VERSION:2.0
PRODID:-//Squarespace Inc/Squarespace 6//v6//EN
BEGIN:VEVENT
UID:544672a6e4b0f61c4cbef8c4@squarespace.com
DTSTAMP:20141021T145320Z
DTSTART:20141202T220000Z
DTEND:20141202T230000Z
SUMMARY:Galesburg Unit Meeting
GEO:40.932711;-90.333079
LOCATION:Galesburg Labor Temple\, 2423 Grand Ave.\, Galesburg\, IL
END:VEVENT
END:VCALENDAR
