BEGIN:VCALENDAR
VERSION:2.0
PRODID:-//Squarespace Inc/Squarespace 6//v6//EN
BEGIN:VEVENT
UID:54467c12e4b0788bf6640b67@squarespace.com
DTSTAMP:20141021T153112Z
DTSTART:20141219T130000Z
DTEND:20141219T140000Z
SUMMARY:Executive Board
GEO:39.784005;-89.65186
LOCATION:I.B.E.W. Local 51 Hall\, 301 E. Spruce\, Springfield\, IL
END:VEVENT
END:VCALENDAR
