BEGIN:VCALENDAR
VERSION:2.0
PRODID:-//Squarespace Inc/Squarespace 6//v6//EN
BEGIN:VEVENT
UID:54467b5de4b076f260524f56@squarespace.com
DTSTAMP:20141201T170059Z
DTSTART:20141213T003000Z
DTEND:20141213T013000Z
SUMMARY:Construction Meeting
GEO:39.743448;-89.712231
LOCATION:I.B.E.W. Local 51 Hall\, 3171 Greenhead Dr\, Springfield\, IL\, 62
 711\, United States
END:VEVENT
END:VCALENDAR
