BEGIN:VCALENDAR
VERSION:2.0
PRODID:-//Squarespace Inc/Squarespace 6//v6//EN
BEGIN:VEVENT
UID:54467a2ce4b054242c72de60@squarespace.com
DTSTAMP:20141021T152713Z
DTSTART:20141211T223000Z
DTEND:20141211T233000Z
SUMMARY:Peoria Unit Meeting
GEO:40.739454;-89.570558
LOCATION:VFW 2602\, 1505 E. Lake St\, Peoria Heights\, IL
END:VEVENT
END:VCALENDAR
