BEGIN:VCALENDAR
VERSION:2.0
PRODID:-//Squarespace Inc/Squarespace 6//v6//EN
BEGIN:VEVENT
UID:5446797ce4b0878cfaf3a446@squarespace.com
DTSTAMP:20141021T152033Z
DTSTART:20141211T210000Z
DTEND:20141211T220000Z
SUMMARY:Decatur Unit Meeting
GEO:39.884277;-88.935795
LOCATION:I.B.E.W. LU 146\, 3390 N Woodford St\, Decatur\, IL\, 62526\, Unit
 ed States
END:VEVENT
END:VCALENDAR
