BEGIN:VCALENDAR
VERSION:2.0
PRODID:-//Squarespace Inc/Squarespace 6//v6//EN
BEGIN:VEVENT
UID:544679cce4b026d1c3c96ce4@squarespace.com
DTSTAMP:20141021T152140Z
DTSTART:20141211T223000Z
DTEND:20141211T233000Z
SUMMARY:Decatur Unit 15 Meeting
GEO:39.884277;-88.935795
LOCATION:I.B.E.W. LU 146\, 3390 N Woodford St\, Decatur\, IL\, 62526\, Unit
 ed States
END:VEVENT
END:VCALENDAR
