BEGIN:VCALENDAR
VERSION:2.0
PRODID:-//Squarespace Inc/Squarespace 6//v6//EN
BEGIN:VEVENT
UID:544678d3e4b0710b44efbd50@squarespace.com
DTSTAMP:20141203T145350Z
DTSTART:20141210T210000Z
DTEND:20141210T220000Z
SUMMARY:Baldwin Unit Meeting
GEO:38.325745;-89.878519
LOCATION:The Bullpen\, 101 N. Van Buren St\, New Athens\, IL\, United State
 s
END:VEVENT
END:VCALENDAR
