BEGIN:VCALENDAR
VERSION:2.0
PRODID:-//Squarespace Inc/Squarespace 6//v6//EN
BEGIN:VEVENT
UID:544661f5e4b0e284a8fab947@squarespace.com
DTSTAMP:20141021T134136Z
DTSTART:20141106T223000Z
DTEND:20141106T233000Z
SUMMARY:Springfield Unit Meeting
GEO:39.784005;-89.65186
LOCATION:I.B.E.W. Local 51 Hall\, 301 E. Spruce\, Springfield\, IL 62703
END:VEVENT
END:VCALENDAR
