BEGIN:VCALENDAR
VERSION:2.0
PRODID:-//Squarespace Inc/Squarespace 6//v6//EN
BEGIN:VEVENT
UID:544660e7e4b01029184e5d84@squarespace.com
DTSTAMP:20141021T133850Z
DTSTART:20141105T220000Z
DTEND:20141105T230000Z
SUMMARY:Lincoln Unit Meeting
GEO:40.143601;-89.34882
LOCATION:K.C. Hall\, 217 Limit St\, Lincoln\, IL\, 62656\, United States
END:VEVENT
END:VCALENDAR
