BEGIN:VCALENDAR
VERSION:2.0
PRODID:-//Squarespace Inc/Squarespace 6//v6//EN
BEGIN:VEVENT
UID:5446606de4b04e999e8342c5@squarespace.com
DTSTAMP:20141021T133419Z
DTSTART:20141105T230000Z
DTEND:20141106T000000Z
SUMMARY:LaSalle Unit Meeting
GEO:41.353253;-89.102855
LOCATION:VFW 4668\, 2325 Donohue St\, LaSalle\, IL
END:VEVENT
END:VCALENDAR
