BEGIN:VCALENDAR
VERSION:2.0
PRODID:-//Squarespace Inc/Squarespace 6//v6//EN
BEGIN:VEVENT
UID:54466175e4b010eb77c22ecb@squarespace.com
DTSTAMP:20141021T133823Z
DTSTART:20141105T210000Z
DTEND:20141105T220000Z
SUMMARY:Clinton Unit Meeting
GEO:40.150385;-88.943822
LOCATION:Elks Lodge #785\, 1520 E. South St\, Clinton\, IL\, USA
END:VEVENT
END:VCALENDAR
