BEGIN:VCALENDAR
VERSION:2.0
PRODID:-//Squarespace Inc/Squarespace 6//v6//EN
BEGIN:VEVENT
UID:54465ff0e4b091dd3f5fcb3a@squarespace.com
DTSTAMP:20141021T133217Z
DTSTART:20141104T210000Z
DTEND:20141104T220000Z
SUMMARY:Havana Unit Meeting
GEO:41.604169;-87.518456
LOCATION:VFW\, 425 W. Ave\, Havana\, IL
END:VEVENT
END:VCALENDAR
