BEGIN:VCALENDAR
VERSION:2.0
PRODID:-//Squarespace Inc/Squarespace 6//v6//EN
BEGIN:VEVENT
UID:54465eb3e4b04e999e833fe6@squarespace.com
DTSTAMP:20141021T133012Z
DTSTART:20141104T220000Z
DTEND:20141104T230000Z
SUMMARY:Galesburg Unit Meeting
GEO:40.932711;-90.333079
LOCATION:Galesburg Labor Temple\, 2423 Grand Ave.\, Galesburg\, IL
END:VEVENT
END:VCALENDAR
