BEGIN:VCALENDAR
VERSION:2.0
PRODID:-//Squarespace Inc/Squarespace 6//v6//EN
BEGIN:VEVENT
UID:54466dd5e4b026d1c3c94b7d@squarespace.com
DTSTAMP:20141021T143004Z
DTSTART:20141128T130000Z
DTEND:20141128T220000Z
SUMMARY:Office Closed
END:VEVENT
END:VCALENDAR
