BEGIN:VCALENDAR
VERSION:2.0
PRODID:-//Squarespace Inc/Squarespace 6//v6//EN
BEGIN:VEVENT
UID:54466c7fe4b09a07858dc864@squarespace.com
DTSTAMP:20141021T142922Z
DTSTART:20141127T130000Z
DTEND:20141127T220000Z
SUMMARY:Thanksgiving - Office Closed
END:VEVENT
END:VCALENDAR
