BEGIN:VCALENDAR
VERSION:2.0
PRODID:-//Squarespace Inc/Squarespace 6//v6//EN
BEGIN:VEVENT
UID:54466a67e4b054242c72b304@squarespace.com
DTSTAMP:20141021T145730Z
DTSTART:20141120T130000Z
DTEND:20141120T140000Z
SUMMARY:Executive Board
GEO:39.784005;-89.65186
LOCATION:I.B.E.W. Local 51 Hall\, 301 E. Spruce\, Springfield\, IL
END:VEVENT
END:VCALENDAR
