BEGIN:VCALENDAR
VERSION:2.0
PRODID:-//Squarespace Inc/Squarespace 6//v6//EN
BEGIN:VEVENT
UID:54466a0ae4b026d1c3c941b6@squarespace.com
DTSTAMP:20141021T141451Z
DTSTART:20141115T003000Z
DTEND:20141115T013000Z
SUMMARY:Construction Meeting
GEO:39.784005;-89.65186
LOCATION:I.B.E.W. Local 51 Hall\, 301 E. Spruce\, Springfield\, IL
END:VEVENT
END:VCALENDAR
