BEGIN:VCALENDAR
VERSION:2.0
PRODID:-//Squarespace Inc/Squarespace 6//v6//EN
BEGIN:VEVENT
UID:54466997e4b066b22fd07a1f@squarespace.com
DTSTAMP:20141021T141315Z
DTSTART:20141113T223000Z
DTEND:20141113T233000Z
SUMMARY:Peoria Unit Meeting
GEO:40.739454;-89.570558
LOCATION:VFW 2602\, 1505 E. Lake St.\, Peoria Heights\, IL
END:VEVENT
END:VCALENDAR
