BEGIN:VCALENDAR
VERSION:2.0
PRODID:-//Squarespace Inc/Squarespace 6//v6//EN
BEGIN:VEVENT
UID:544666d9e4b01029184e6b63@squarespace.com
DTSTAMP:20141021T140209Z
DTSTART:20141113T210000Z
DTEND:20141113T220000Z
SUMMARY:Decatur Unit Meeting
GEO:39.884277;-88.935795
LOCATION:I.B.E.W. LU 146\, 3390 N Woodford St\, Decatur\, IL\, 62526\, Unit
 ed States
END:VEVENT
END:VCALENDAR
