BEGIN:VCALENDAR
VERSION:2.0
PRODID:-//Squarespace Inc/Squarespace 6//v6//EN
BEGIN:VEVENT
UID:54466521e4b00f6c90e905e5@squarespace.com
DTSTAMP:20141021T135456Z
DTSTART:20141113T003000Z
DTEND:20141113T013000Z
SUMMARY:Jacksonville Unit Meeting
GEO:35.68531;-82.005647
LOCATION:AmVets Post 100\, 210 E. Court St
END:VEVENT
END:VCALENDAR
