BEGIN:VCALENDAR
VERSION:2.0
PRODID:-//Squarespace Inc/Squarespace 6//v6//EN
BEGIN:VEVENT
UID:544664cee4b05987e396e30e@squarespace.com
DTSTAMP:20141021T135222Z
DTSTART:20141112T223000Z
DTEND:20141112T233000Z
SUMMARY:Champaign Unit Meeting
GEO:40.130829;-88.252935
LOCATION:VFW Post 5520\, 609 Edgebrook Dr\, Champaign\, IL\, 61820\, United 
 States
END:VEVENT
END:VCALENDAR
