BEGIN:VCALENDAR
VERSION:2.0
PRODID:-//Squarespace Inc/Squarespace 6//v6//EN
BEGIN:VEVENT
UID:54466471e4b0915fe64ada69@squarespace.com
DTSTAMP:20141021T135057Z
DTSTART:20141112T230000Z
DTEND:20141113T000000Z
SUMMARY:Bloomington Unit Meeting
GEO:40.443059;-89.023341
LOCATION:IBEW Local 197\, 2407 Beich Rd\, Ste A\, Bloomington\, IL
END:VEVENT
END:VCALENDAR
