BEGIN:VCALENDAR
VERSION:2.0
PRODID:-//Squarespace Inc/Squarespace 6//v6//EN
BEGIN:VEVENT
UID:544665bde4b016fff425b97a@squarespace.com
DTSTAMP:20141021T135631Z
DTSTART:20141112T190000Z
DTEND:20141112T200000Z
SUMMARY:Baldwin Unit Meeting
GEO:38.188158;-89.755586
LOCATION:World Shooting & Rec Comolex\, 1 Main Event Ln\, Sparta\, IL\, 622
 86\, United States
END:VEVENT
END:VCALENDAR
