BEGIN:VCALENDAR
VERSION:2.0
PRODID:-//Squarespace Inc/Squarespace 6//v6//EN
BEGIN:VEVENT
UID:54466422e4b09a07858db54c@squarespace.com
DTSTAMP:20141021T134919Z
DTSTART:20141111T130000Z
DTEND:20141111T220000Z
SUMMARY:Veteran's Day - Office Closed
END:VEVENT
END:VCALENDAR
