BEGIN:VCALENDAR
VERSION:2.0
PRODID:-//Squarespace Inc/Squarespace 6//v6//EN
BEGIN:VEVENT
UID:5446762ce4b070d5e540dedc@squarespace.com
DTSTAMP:20141021T153931Z
DTSTART:20141204T210000Z
DTEND:20141204T220000Z
SUMMARY:Wood River Unit Meeting
GEO:38.934723;-90.154596
LOCATION:IBEW LU 649\, 4051 Humbert Rd\, Alton\, IL
END:VEVENT
END:VCALENDAR
