BEGIN:VCALENDAR
VERSION:2.0
PRODID:-//Squarespace Inc/Squarespace 6//v6//EN
BEGIN:VEVENT
UID:54467690e4b010eb77c263ac@squarespace.com
DTSTAMP:20141021T154009Z
DTSTART:20141209T230000Z
DTEND:20141210T000000Z
SUMMARY:Bloomington Unit Meeting
GEO:40.443059;-89.023341
LOCATION:IBEW Local 197\, 2407 Beich Rd\, Bloomington\, IL\, 61705\, United 
 States
END:VEVENT
END:VCALENDAR
